BEGIN:VCALENDAR
VERSION:2.0
PRODID:-//Randonnée Aventure - ECPv6.8.0//NONSGML v1.0//EN
CALSCALE:GREGORIAN
METHOD:PUBLISH
X-ORIGINAL-URL:https://randonnee.ca
X-WR-CALDESC:Events for Randonnée Aventure
REFRESH-INTERVAL;VALUE=DURATION:PT1H
X-Robots-Tag:noindex
X-PUBLISHED-TTL:PT1H
BEGIN:VTIMEZONE
TZID:America/New_York
BEGIN:DAYLIGHT
TZOFFSETFROM:-0500
TZOFFSETTO:-0400
TZNAME:EDT
DTSTART:20260308T070000
END:DAYLIGHT
BEGIN:STANDARD
TZOFFSETFROM:-0400
TZOFFSETTO:-0500
TZNAME:EST
DTSTART:20261101T060000
END:STANDARD
END:VTIMEZONE
BEGIN:VEVENT
DTSTART;VALUE=DATE:20260814
DTEND;VALUE=DATE:20260817
DTSTAMP:20260422T070958
CREATED:20260401T020736Z
LAST-MODIFIED:20260401T020736Z
UID:31130-1786665600-1786924799@randonnee.ca
SUMMARY:Summer Cycling Weekend - Nominingue\, QC
DESCRIPTION:Summer Cycling Weekend\nNominingue\, QC\nFriday 14 August to Sunday 16 August\, 2026 (two nights)\nNominingue is located in the beautiful Upper Laurentian region in Quebec. Discover the quiet and peaceful backcountry north of Labelle and its charming small villages\, with good roads and the Petit Train du Nord cycling path. On Saturday\, there is an option to cycle in the beautiful Mont-Laurier area. The route lengths range from 49 to 92 km. Most of the paths are for the intermediate level riders\, but there are circuits which include some notable ascents for the more athletic types.  \nThis is an area of many lakes\, and the municipal beach a short cycle from the hotel offers the option of a swim at the end of the day. \nFor more information on ride elevations and distances\, click here. \nAccommodation: : Comfortable rooms with two queen-sized beds\, cable TV\, air conditioning and mini-fridge at  Le Club et Hôtel du Golf Nominingue. \nCost: $270 for members. Non-members must also purchase a $35 membership. \nIncludes: 2 nights accommodation\, Friday and Saturday (double occupancy). Participants are responsible for their own meals. The hotel restaurant has a range of breakfast and dinner choices and there are other dining options nearby.  More information on restaurants and possible joint dinners will be provided to participants before the weekend. \nTransportation: By carpool with a cost of $45 per passenger paid to the driver at the start\, plus $10 for the optional Mont-Laurier carpool. \nNote: You are encouraged to identify a roommate before signing up. If you sign up without specifying your roommate\, we will try to match you with another single person of the same sex. If we do not succeed\, we may not be able to accommodate you (you would be refunded). \nREGISTRATION DEADLINE: Thursday\, July 16\, 2026 \nWaiting List: Once a weekend trip is full\, there is a waiting list for prospective buyers. To be placed on the waiting list\, email the club at info@randonnee.ca with the request. If a place becomes available\, you will be contacted and given the option to purchase the trip. \nbuy now
URL:https://randonnee.ca/event/summer-cycling-weekend-nominingue-qc/
CATEGORIES:cycling,weekend
ATTACH;FMTTYPE=image/jpeg:https://randonnee.ca/wp-content/uploads/cycling_Nominingue-e1773414284362.jpg
END:VEVENT
END:VCALENDAR