BEGIN:VCALENDAR
VERSION:2.0
PRODID:-//Randonnée Aventure - ECPv6.8.0//NONSGML v1.0//EN
CALSCALE:GREGORIAN
METHOD:PUBLISH
X-WR-CALNAME:Randonnée Aventure
X-ORIGINAL-URL:https://randonnee.ca
X-WR-CALDESC:Events for Randonnée Aventure
REFRESH-INTERVAL;VALUE=DURATION:PT1H
X-Robots-Tag:noindex
X-PUBLISHED-TTL:PT1H
BEGIN:VTIMEZONE
TZID:America/New_York
BEGIN:DAYLIGHT
TZOFFSETFROM:-0500
TZOFFSETTO:-0400
TZNAME:EDT
DTSTART:20260308T070000
END:DAYLIGHT
BEGIN:STANDARD
TZOFFSETFROM:-0400
TZOFFSETTO:-0500
TZNAME:EST
DTSTART:20261101T060000
END:STANDARD
END:VTIMEZONE
BEGIN:VEVENT
DTSTART;VALUE=DATE:20260822
DTEND;VALUE=DATE:20260823
DTSTAMP:20260422T051732
CREATED:20260401T020735Z
LAST-MODIFIED:20260401T024549Z
UID:31107-1787356800-1787443199@randonnee.ca
SUMMARY:C15-Beloeil\, QC
DESCRIPTION:Beloeil\, QC\nSaturday 22 August 2026\nA nice choice of routes along the Richelieu River and around Mont St Hilaire. The 53 km route (137 m climb) includes particularly lovely stretches through Otterburn Park and around the Bassin de Chambly. The 82 km route (269 m climb) includes about 12 km along the Yamaska River that is also much appreciated. Other choices of trip lengths (and meters of climb) are\, 51 km (260 m)\, 71 km (281 m)\, and 95 km (342 m). Nice waterfront pub near parking in Old Beloeil at the end of the ride. \nFor more information\, please consult How Our Rides Work. \nVisit our Wiki (Cycling) to register for this week’s ride\, download maps\, and get weather-related updates. The signup sheet will be open from the Tuesday before a Saturday ride: sign up by Friday at 7 pm.
URL:https://randonnee.ca/event/c15-beloeil-qc/
CATEGORIES:cycling,day trip
ATTACH;FMTTYPE=image/jpeg:https://randonnee.ca/wp-content/uploads/cycling_Beloeil-scaled-e1775011538262.jpg
END:VEVENT
END:VCALENDAR