BEGIN:VCALENDAR
VERSION:2.0
PRODID:-//Randonnée Aventure - ECPv6.8.0//NONSGML v1.0//EN
CALSCALE:GREGORIAN
METHOD:PUBLISH
X-ORIGINAL-URL:https://randonnee.ca
X-WR-CALDESC:Events for Randonnée Aventure
REFRESH-INTERVAL;VALUE=DURATION:PT1H
X-Robots-Tag:noindex
X-PUBLISHED-TTL:PT1H
BEGIN:VTIMEZONE
TZID:America/New_York
BEGIN:DAYLIGHT
TZOFFSETFROM:-0500
TZOFFSETTO:-0400
TZNAME:EDT
DTSTART:20260308T070000
END:DAYLIGHT
BEGIN:STANDARD
TZOFFSETFROM:-0400
TZOFFSETTO:-0500
TZNAME:EST
DTSTART:20261101T060000
END:STANDARD
END:VTIMEZONE
BEGIN:VEVENT
DTSTART;VALUE=DATE:20260829
DTEND;VALUE=DATE:20260830
DTSTAMP:20260422T135636
CREATED:20260401T020735Z
LAST-MODIFIED:20260401T020735Z
UID:31113-1787961600-1788047999@randonnee.ca
SUMMARY:C16-Sutton\, QC
DESCRIPTION:Sutton\, QC\nSaturday 29 August 2026\nOne of the most beautiful spots in Quebec for cycling\, where many athletes come to train. The lovely rolling countryside offers a wide variety of rides for every level\, some crossing the border into Vermont. Take a leisurely ride past vineyards and bucolic scenery or\, if you are up for a challenge\, tackle routes with long climbs and steep descents. Pub stop in Sutton at the end of the ride. \nTrip lengths (and meters of climb) for the routes completely in Canada: 56 km (575 m)\, 61 km (631 m)\, 77 km (670 m). In addition\, this year\, we will be offering a first: a ride on a scenic gravel road — perfect for intermediate to advanced cyclists who enjoy a more adventurous outing on a quieter route. \nFor routes crossing to the US: 52 km (394 m)\, 72 km (595 m)\, 76 km (968 m). Bring your passport for the border crossing and ensure you have adequate insurance coverage for the U.S. Please note that if you choose to cross into the United States\, you do so at your own risk — club or trip leaders are not responsible for your care or support once you enter the U.S. \nFor more information\, please consult How Our Rides Work. \nVisit our Wiki (Cycling) to register for this week’s ride\, download maps\, and get weather-related updates. The signup sheet will be open from the Tuesday before a Saturday ride: sign up by Friday at 7 pm.
URL:https://randonnee.ca/event/c16-sutton-qc-3/
CATEGORIES:cycling,day trip
ATTACH;FMTTYPE=image/jpeg:https://randonnee.ca/wp-content/uploads/C15-Sutton-1-e1677852448931.jpg
END:VEVENT
BEGIN:VEVENT
DTSTART;VALUE=DATE:20260829
DTEND;VALUE=DATE:20260830
DTSTAMP:20260422T135636
CREATED:20260401T020735Z
LAST-MODIFIED:20260401T120432Z
UID:31265-1787961600-1788047999@randonnee.ca
SUMMARY:H8-Mont Ouareau & Mont Kaaïkop\, QC
DESCRIPTION:Mont Ouareau & Mont Kaaïkop\, QC\nSaturday 29 August 2026\nBeautiful hikes in the Lanaudière region with scenic views from Mt Ouareau and Mt Kaaïkop as well as Lac Legault. Visit Refuge Paul Perreault\, named after an honorary member of RA. Hikes of 6\, 14 and 17 km with verticals of 335\, 394 and 579 meters respectively. \nLevels: 1 – 4 \nbuy now
URL:https://randonnee.ca/event/h8-mont-ouareau-mont-kaaikop-qc/
CATEGORIES:day trip,hiking
ATTACH;FMTTYPE=image/jpeg:https://randonnee.ca/wp-content/uploads/hiking_Kaaikop-scaled-e1773837729311.jpg
END:VEVENT
BEGIN:VEVENT
DTSTART;VALUE=DATE:20260905
DTEND;VALUE=DATE:20260906
DTSTAMP:20260422T135636
CREATED:20260401T020735Z
LAST-MODIFIED:20260401T024711Z
UID:31172-1788566400-1788652799@randonnee.ca
SUMMARY:C17-Destination TBD: stay tuned!
DESCRIPTION:Destination TBD: stay tuned!\nSaturday 5 September 2026
URL:https://randonnee.ca/event/c17-destination-tbd-stay-tuned/
CATEGORIES:cycling,day trip
ATTACH;FMTTYPE=image/jpeg:https://randonnee.ca/wp-content/uploads/cycling_duo-scaled-e1775011624438.jpg
END:VEVENT
BEGIN:VEVENT
DTSTART;VALUE=DATE:20260912
DTEND;VALUE=DATE:20260913
DTSTAMP:20260422T135636
CREATED:20260401T020734Z
LAST-MODIFIED:20260401T024806Z
UID:31181-1789171200-1789257599@randonnee.ca
SUMMARY:C18-Destination TBD: stay tuned!
DESCRIPTION:Destination TBD: stay tuned!\nSaturday 12 September 2026
URL:https://randonnee.ca/event/c18-destination-tbd-stay-tuned/
CATEGORIES:cycling,day trip
ATTACH;FMTTYPE=image/jpeg:https://randonnee.ca/wp-content/uploads/cycling_roadside_group-e1775011674540.jpg
END:VEVENT
BEGIN:VEVENT
DTSTART;VALUE=DATE:20260912
DTEND;VALUE=DATE:20260913
DTSTAMP:20260422T135636
CREATED:20260401T020734Z
LAST-MODIFIED:20260401T020734Z
UID:31272-1789171200-1789257599@randonnee.ca
SUMMARY:H9-Parc de La Mauricie (Rivière-à-la-Pêche)\, QC
DESCRIPTION:Parc de La Mauricie (Rivière-à-la-Pêche)\, QC\nSaturday 12 September 2026\nAn undulating plateau in the Precambrian Shield\, dotted with scenic hills\, 150 lakes and waterfalls and bounded on the east by the majestic Rivière St-Maurice. \nLevels: 1 – 5 \nbuy now
URL:https://randonnee.ca/event/h9-parc-de-la-mauricie-riviere-a-la-peche-qc/
CATEGORIES:day trip,hiking
ATTACH;FMTTYPE=image/jpeg:https://randonnee.ca/wp-content/uploads/H5-La-Mauricie-scaled-e1648129278987.jpg
END:VEVENT
BEGIN:VEVENT
DTSTART;VALUE=DATE:20260919
DTEND;VALUE=DATE:20260920
DTSTAMP:20260422T135636
CREATED:20260401T020733Z
LAST-MODIFIED:20260401T020733Z
UID:31280-1789776000-1789862399@randonnee.ca
SUMMARY:H10-SEPAQ Mont Mégantic (Secteur de l'Observatoire)\, QC
DESCRIPTION:SEPAQ Mont Mégantic (Secteur de l’Observatoire)\, QC\nSaturday 19 September 2026\nMont Mégantic is a major geologic feature in South East Quebec\, comprising an outer semi-circle of mountains\, including Monts St-Joseph\, Victoria and Notre-Dame\, that ring Mont Mégantic itself. The views from each peak are spectacular. \nLevels: 1 – 5 \nbuy now
URL:https://randonnee.ca/event/h10-sepaq-mont-megantic-secteur-de-lobservatoire-qc/
CATEGORIES:day trip,hiking
ATTACH;FMTTYPE=image/jpeg:https://randonnee.ca/wp-content/uploads/hiking_megantic_observatory-e1774353913146.jpg
END:VEVENT
BEGIN:VEVENT
DTSTART;VALUE=DATE:20260919
DTEND;VALUE=DATE:20260920
DTSTAMP:20260422T135636
CREATED:20260401T020734Z
LAST-MODIFIED:20260401T022922Z
UID:31188-1789776000-1789862399@randonnee.ca
SUMMARY:C19-Destination TBD: stay tuned!
DESCRIPTION:Destination TBD: stay tuned!\nSaturday 19 September 2026
URL:https://randonnee.ca/event/c19-destination-tbd-stay-tuned/
CATEGORIES:cycling,day trip
ATTACH;FMTTYPE=image/jpeg:https://randonnee.ca/wp-content/uploads/cycling_trees-scaled-e1775010551609.jpg
END:VEVENT
BEGIN:VEVENT
DTSTART;VALUE=DATE:20260926
DTEND;VALUE=DATE:20260927
DTSTAMP:20260422T135637
CREATED:20260401T020724Z
LAST-MODIFIED:20260401T020724Z
UID:31194-1790380800-1790467199@randonnee.ca
SUMMARY:C20-Destination TBD: stay tuned!
DESCRIPTION:Destination TBD: stay tuned!\nSaturday 26 September 2026
URL:https://randonnee.ca/event/c20-destination-tbd-stay-tuned/
CATEGORIES:cycling,day trip
ATTACH;FMTTYPE=image/jpeg:https://randonnee.ca/wp-content/uploads/cycling_shelter-e1773663858508.jpeg
END:VEVENT
BEGIN:VEVENT
DTSTART;VALUE=DATE:20260926
DTEND;VALUE=DATE:20260927
DTSTAMP:20260422T135637
CREATED:20260401T020724Z
LAST-MODIFIED:20260401T020724Z
UID:31292-1790380800-1790467199@randonnee.ca
SUMMARY:H11-Montagne Noire\, QC
DESCRIPTION:Montagne Noire\, QC\nSaturday 26 September 2026\nOne of the most popular areas of Saint-Donat\, the Montagne Noire offers a choice of hiking trails. The National historic site of the Liberator Harry (military plane that went down in the fog in October 1943)\, the lookouts\, the Mésangeai hut and the views from the summit mirador (tower at 875 meters) are the attractions that make this hike most noteworthy. \nLevels: 1 – 4 \nbuy now
URL:https://randonnee.ca/event/h11-montagne-noire-qc/
CATEGORIES:day trip,hiking
ATTACH;FMTTYPE=image/jpeg:https://randonnee.ca/wp-content/uploads/H9-Montagne-Noire-scaled-e1648220143803.jpg
END:VEVENT
BEGIN:VEVENT
DTSTART;VALUE=DATE:20261003
DTEND;VALUE=DATE:20261004
DTSTAMP:20260422T135637
CREATED:20260401T020724Z
LAST-MODIFIED:20260401T020724Z
UID:31317-1790985600-1791071999@randonnee.ca
SUMMARY:H12-Parc Forêt Ouareau (Secteur du Massif)\, QC
DESCRIPTION:Parc Forêt Ouareau (Secteur du Massif)\, QC\nSaturday 3 October 2026\nA variety of trails with frequent lakes and huts. Climb the Sentier National as it crosses Le Massif\, affording impressive views of the Lanaudière uplands. A great hike any time of year! \nLevels: 1 – 4 \nbuy now
URL:https://randonnee.ca/event/h12-parc-foret-ouareau-secteur-du-massif-qc/
CATEGORIES:day trip,hiking
ATTACH;FMTTYPE=image/jpeg:https://randonnee.ca/wp-content/uploads/hiking_fall_season-scaled-e1774035882811.jpg
END:VEVENT
BEGIN:VEVENT
DTSTART;VALUE=DATE:20261017
DTEND;VALUE=DATE:20261018
DTSTAMP:20260422T135637
CREATED:20260401T020723Z
LAST-MODIFIED:20260401T020723Z
UID:31337-1792195200-1792281599@randonnee.ca
SUMMARY:H13-Parc Val-David/Val-Morin\, QC
DESCRIPTION:Parc Val-David/Val-Morin\, QC\nSaturday 17 October 2026\nCome join us for our last hike of the season.  A protected forest in the beautiful Laurentians\, Val David/Val Morin offers autumn colour\, panoramic views\, and trails for everyone.  We’ll celebrate with a pub stop on our way home. \nLevels: 1 – 4 \nbuy now
URL:https://randonnee.ca/event/h13-parc-val-david-val-morin-qc/
CATEGORIES:day trip,hiking
ATTACH;FMTTYPE=image/jpeg:https://randonnee.ca/wp-content/uploads/hiking_val_david_lake-scaled-e1742931025539.jpg
END:VEVENT
END:VCALENDAR